BEGIN:VCALENDAR
VERSION:2.0
PRODID:-//Gather//weaved.ch//EN
BEGIN:VEVENT
UID:gather-14682@weaved.ch
DTSTAMP:20260425T110240Z
DTSTART:20260429T183000
DTEND:20260429T203000
SUMMARY:Meditation & Vortrag am Mittwoch
LOCATION:Kadampa Meditation Centre Switzerland\, Mirabellenstrasse 1\, 8048\, Zürich
DESCRIPTION:Meditation & Vortrag am Mittwoch\n\n**Meditationsreihe:** **Die Grundlagen erfolgreicher Meditation entwickeln** Mittwochs\, 29. April - 20. Mai\, 2026\, 18:30-20:00Uhr\, KMC Schweiz in ZH- Altstetten mit Gen Kelsang Devi (in Englisch mit deutscher Übersetzung)\, 20CHF https://www.kadampa.ch/vortrag-am-mittwoch/ Wahres Glück entsteht nicht durch äussere Umstände – es wurzelt in unserem Geist. In dieser vierwöchigen Meditationsreihe erkunden wir gemeinsam\, wie wir die inneren Voraussetzungen schaffen\, um tief und erfolgreich zu meditieren und ein dauerhaft glückliches Leben zu führen. Anhand praktischer Meditationen und klarer Erklärungen lernen wir\, wie wir Verantwortung für unser Leben übernehmen\, uns für Inspiration öffnen\, Negativität auflösen und die Kraft zum Glück in uns stärken können. **Themenliste** 29\\. April 2026 \\| Karma verstehen –Verantwortung für unser Handeln und unsere Erfahrungen übernehmen 6\\. Mai 2026 \\| Offen für Inspiration sein 13\\. Mai 2026 \\| Negativität auflösen 20\\. Mai 2026 \\| Die Kraft zum Glücklichsein entwickeln
END:VEVENT
END:VCALENDAR