BEGIN:VCALENDAR
VERSION:2.0
PRODID:-//Gather//weaved.ch//EN
BEGIN:VEVENT
UID:gather-14609@weaved.ch
DTSTAMP:20260425T110627Z
DTSTART:20260501T100000
DTEND:20260501T120000
SUMMARY:Freitag Morgen Meditation
LOCATION:Kadampa Meditation Centre Switzerland\, Mirabellenstrasse 1\, 8048\, Zürich
DESCRIPTION:Freitag Morgen Meditation\n\nFreitags\, 10:00–10:40 Uhr\, 1. - 15. Mai\, Kadampa Meditationszentrum Schweiz\, Mirabellenstrasse 1\, 8048 Zürich-Altstetten\, 7.50CHF\, https://www.kadampa.ch/freitag-morgen-meditation/ Gönn dir eine 40-minütige Atemmeditation mit einfühlsamen Erklärungen\, die dir hilft\, zur Ruhe zu kommen und neue Energie zu tanken. Spüre\, wie dein Geist klarer wird\, sich innere Anspannung löst und du dich leichter fühlst. Diese Meditation ist die perfekte Gelegenheit\, dich bewusst mit dir selbst zu verbinden und den Übergang ins Wochenende achtsam zu gestalten. Die geführten Meditationen sind Drop-In-Kurse – eine Anmeldung ist nicht erforderlich. Komm einfach vorbei\, geniesse die wohltuende Atmosphäre und starte deinen Freitagmorgen voller Gelassenheit.
END:VEVENT
END:VCALENDAR