BEGIN:VCALENDAR
VERSION:2.0
PRODID:-//Gather//weaved.ch//EN
BEGIN:VEVENT
UID:gather-14605@weaved.ch
DTSTAMP:20260425T110804Z
DTSTART:20260504T183000
DTEND:20260504T203000
SUMMARY:Meditation am Montag
LOCATION:Kadampa Meditation Centre Switzerland\, Mirabellenstrasse 1\, 8048\, Zürich
DESCRIPTION:Meditation am Montag\n\nMontags 27. April - 18. Mai\, 18:30-19:30\, KMC Schweiz in ZH-Altstetten mit Kathrin Hald (Deutsch)\, 15CHF [https://www.kadampa.ch/meditation-am-montag/](https://www.kadampa.ch/meditation-am-montag/) **Meditationsreihe: Die Grundlagen erfolgreicher Meditation entwickeln.** Wahres Glück entsteht nicht durch äussere Umstände – es wurzelt in unserem Geist. In dieser vierwöchigen Meditationsreihe erkunden wir gemeinsam\, wie wir die inneren Voraussetzungen schaffen\, um tief und erfolgreich zu meditieren und ein dauerhaft glückliches Leben zu führen. Anhand praktischer Meditationen und klarer Erklärungen lernen wir\, wie wir Verantwortung für unser Leben übernehmen\, uns für Inspiration öffnen\, Negativität auflösen und die Kraft zum Glück in uns stärken können. **Themenliste** 27\\. April 2026 \\| Die Kraft von Meditation und Gebet 4\\. Mai 2026 \\| Karma verstehen – Verantwortung für unser Leben und unsere Erfahrungen übernehmen 11\\. Mai 2026 \\| Offen für Inspiration – Negativität loslassen
END:VEVENT
END:VCALENDAR