BEGIN:VCALENDAR
VERSION:2.0
PRODID:-//Gather//weaved.ch//EN
BEGIN:VEVENT
UID:gather-14594@weaved.ch
DTSTAMP:20260425T110802Z
DTSTART:20260531T090000
DTEND:20260531T110000
SUMMARY:Öffne dein Herz – Verbindung & Heilung (Kundalini Yoga Workshop)
LOCATION:Bahnhof Schaffhausen\, Bahnhofstrasse 68\, meetup13\, Schaffhausen
DESCRIPTION:Öffne dein Herz – Verbindung & Heilung (Kundalini Yoga Workshop)\n\n✨ Ein liebevoller Raum für dich. In diesem Workshop öffnen wir bewusst den Herzraum – für mehr Verbindung\, Weichheit und innere Heilung. Es geht um Empfangen und Geben\, um Selbstliebe und darum\, dich in deiner Tiefe wieder zu spüren. Du darfst langsamer werden. Du darfst fühlen. Du darfst dich zeigen – genau so\, wie du bist. Durch Kundalini Yoga\, Atem\, Meditation und bewusste Ausrichtung entsteht ein Raum\, in dem Heilung auf natürliche Weise geschehen darf – leise\, sanft und echt. 🕊️ Thema: Herzraum\, Verbindung & Selbstliebe 🕊️ Für alle Level geeignet 📅 31. Mai\, von 9 bis 12 Uhr 📍 Schaffhausen Wenn du spürst\, dass dein Herz sich öffnen möchte\, bist du herzlich willkommen 🤍
END:VEVENT
END:VCALENDAR