BEGIN:VCALENDAR
VERSION:2.0
PRODID:-//Gather//weaved.ch//EN
BEGIN:VEVENT
UID:gather-14520@weaved.ch
DTSTAMP:20260425T110035Z
DTSTART:20260611
DTEND:20260615
SUMMARY:11.-14. June 2026
LOCATION:fromtrust.tolust
DESCRIPTION:11.-14. June 2026\nYour Festival of \nDance & More\n\n@fromtrust.tolust | light \nwe invite everyone to dance\, sing\, explore and endulge in this amazing beautiful nature that the wonderful place allows 🌸\n\nYou choose between Camping ⛺️\, Van 🚐 or Dormitory and if you join 4\, 3 or 2 days!\n\nBe welcome to book your ticket now✨\n\nwww.fromtrusttolust.com\n\nBe with us and #enjoy
END:VEVENT
END:VCALENDAR