BEGIN:VCALENDAR
VERSION:2.0
PRODID:-//Gather//weaved.ch//EN
BEGIN:VEVENT
UID:gather-14519@weaved.ch
DTSTAMP:20260425T110323Z
DTSTART:20260730T150000
DTEND:20260730T170000
SUMMARY:The last Ecstatic Water Dance until the end of Summer.
LOCATION:Bern
DESCRIPTION:The last Ecstatic Water Dance until the end of Summer. \nFor max 11 dancers \n26.4.26 (15:00-17:30) in Bern (by the train station)\nRegister until Friday please\n\nDance improvisation in the 35°C warm (non chlorine) water pool. You can dance alone\, in duets or in the group\, alternating between standing and floating dance\, interacting without leader or follower. Combining conscious breathing\, floating three-dimensional movement and ecstatic music\, it takes you on a\n trance & dance journey.\n\nWith a guided introduction how to dance solo/ in duet or as a group in water\, followed by a space for improvised movement. \n\nwww.earthandwaterdance.com/ecstatic-waterdance.html\nWATER HOLIDAYS:\nBlue Tantra: at Pentecost (22-25 May) in Corfu \nDance in warm water\, on the beach and in the sea to explore conscious sensuality\, fluidity and embodied presence. A journey for body and soul\, carried by the beautiful energy of Arillas. \nClasses take place in a private pool heated to 34°C\, on an open-air platform\, on the beach. Corfu is an exciting island to extend your holiday\, with very attractive accommodation prices. 2 Spots left\nwww.earthandwaterdance.com/blue_tantra1.html\n\nBreath\, Presence\, Touch\, 30.7-2.8 in France\nSummer workshop to learn intuitively and playfully aquatic bodywork\n> The Workshop price is lower than before!\n\nExplore ways to read better the breath\, experience a subtle touch and a full presence in the connection. \n\nThis journey invites you to dive deeply into your own experience\, learn the art of aquatic bodywork through contact improvisation (long evening jams)\, conscious embraces and no mind flow.\n\nhttps://www.earthandwaterdance.com/breath.html
END:VEVENT
END:VCALENDAR