BEGIN:VCALENDAR
VERSION:2.0
PRODID:-//Gather//weaved.ch//EN
BEGIN:VEVENT
UID:gather-14518@weaved.ch
DTSTAMP:20260425T110317Z
DTSTART:20260607
DTEND:20260608
SUMMARY:Glarisegg Contact Festival 4. - 7.6
LOCATION:Baden
DESCRIPTION:Glarisegg Contact Festival 4. - 7.6\nTanz-Live-Musik-Impro Festival direkt am Bodensee.\n\nBist Du unter 35? … vor allem für jüngere Tänzer:innen sind noch Plätze frei 🍀 \nNeu laden wir 20-30 jüngere Menschen zu unserer reichen Contact-Musik-Improv Kultur ein ☀️:  Du kannst das 1. Mal als Selbstversorger:in zu einem super günstigen Preis am Festival teilnehmen 🎉\n\n💥 neu OUTDOOR TENTIKLE für\nEcstatic-Dance-LiveMusik\, Co-Creations\, Kakao-Ritual\, Jammen\, Thai-Massage\, Open Space\, Labs wie Collective Presencing\, geteiltes Sein in Stille\, Acro-Yoga u.a.\n \n23 Lehrer-\, 20 Live-Musiker:innen 💫\nermöglichen reizvolle Spielwelt: Contact-Improv-Workshops\, Basics für Anfänger:innen\, WaldJam\, Underscore\, Acrobatics & Ci\, Parcour\, Sing-Impro\, Contango\, Meditation\, Circles - Raum für herzliche\, authentische Begegnung.\n \nSchloss Glarisegg (CH)🌿direkt am Bodensee: lädt zum Baden\, Relaxen\, Volleyballspiel\, Sauna &🔥 am See ein.\n \nBio-Vollwertkost\, Übernachtung in Zelten\, Wohnmobil\, Zimmer https://www.contact-jam-festival.ch
END:VEVENT
END:VCALENDAR