BEGIN:VCALENDAR
VERSION:2.0
PRODID:-//Gather//weaved.ch//EN
BEGIN:VEVENT
UID:gather-14517@weaved.ch
DTSTAMP:20260425T110321Z
DTSTART:20260613
DTEND:20260615
SUMMARY:Einmal mehr möchte ich euch auf meinen nächsten Contactimprovisation-Basis-Works
LOCATION:Peter Aerni\, Bern
DESCRIPTION:Einmal mehr möchte ich euch auf meinen nächsten Contactimprovisation-Basis-Workshop in Bern/CH aufmerksam machen. Eine tolle Gelegenheit\, die Grundlagen der CI kennen zu lernen\, aufzufrischen oder auch zu vertiefen!\n\n *CI-Basis-Workshop in  Bern vom 13. - 14.  Juni mit Adrian\, wie immer im Atelier Crearte…* \n\nAlle Infos auf www.adrianrussi.com\n\nDie Unterrichtsinhalte werden in einer Weise präsentiert\, dass alle Erfahrungsstufen vertieft lernen können!
END:VEVENT
END:VCALENDAR