BEGIN:VCALENDAR
VERSION:2.0
PRODID:-//Gather//weaved.ch//EN
BEGIN:VEVENT
UID:gather-14495@weaved.ch
DTSTAMP:20260425T110508Z
DTSTART:20260510
DTEND:20260511
SUMMARY:Ecstatic Dance Journey with Sascha Kid
DESCRIPTION:Ecstatic Dance Journey with Sascha Kid\nSo.\, 10. Mai 2026\n\nhttps://tickets.xtatic.ch/de/events/ecstatic-dance-journey-with-sascha-kid-2026-05-10\n\nÜber Ecstatic Dance:\nDie treibenden Beats und die emotionalen Klänge des Cellos entführen dich auf eine einzigartige Reise\, auf der du deinem Körper und deinen Emotionen freie Entfaltung schenken kannst.\nEine tiefgreifende Erfahrung\, deren Wirkung dich noch lange nach dem Tanz begleitet.\nSascha Kid verbindet den pulsierenden Rhythmus elektronischer Tanzmusik mit den kraftvollen\, tiefgehenden Tönen seines Cellos – ein Sound\, der dich auf eine Reise voller Energie\, Präsenz und emotionaler Entspannung mitnimmt.\nWas erwartet dich?
END:VEVENT
END:VCALENDAR