BEGIN:VCALENDAR
VERSION:2.0
PRODID:-//Gather//weaved.ch//EN
BEGIN:VEVENT
UID:gather-14493@weaved.ch
DTSTAMP:20260425T110614Z
DTSTART:20260723
DTEND:20260727
SUMMARY:DU BIST VON HERZEN ZUM RISE UP SUMMER GATHERING 2026 eingeladen!
LOCATION:GATHERING 2026\, Schweiz
DESCRIPTION:DU BIST VON HERZEN ZUM RISE UP SUMMER GATHERING 2026 eingeladen!\n\nDas Programm steht fest 🥳\n\nVom 23. – 26. Juli 2026 verwandelt sich das Schloss Glarisegg am Bodensee erneut in einen Raum für bewusste Begegnung\, Bewegung und tiefe Verbindung. \n\nEs erwarten dich über 50+ Workshops und Konzerte von mehr als 40+ wundervollen Teachers\, Musiker*innen & Facilitators. \n\nAuf dich warten tägliche Ecstatic Dances\, Breathwork\, Naturrituale und zahlreiche weitere Workshops wie zum Beispiel Frauen- und Männerkreise für Conscious Relating\, Kakao- & Feuerzeremonien\, See & Wald-Zeit...\n\nUnd du kannst dich auf zahlreiche bewegende Konzerte und Live-Dances freuen mit Künstlern wie Navakala aus Deutschland\, Vera Anja\, Mana-Kora\, Kosma & Sascha-Kid aus der Schweiz & Puente Pelangi aus Bali...\n\nTauch mit uns ein in dieses lebendige Feld von Erfahrungen\, die im Innen wie im Aussen bewegen\, inspirieren\, berühren und tief verbinden.\n\n💃 Buch dir dein Ticket jetzt hier.\n\nWir freuen dich auf dich!
END:VEVENT
END:VCALENDAR