BEGIN:VCALENDAR
VERSION:2.0
PRODID:-//Gather//weaved.ch//EN
BEGIN:VEVENT
UID:gather-14487@weaved.ch
DTSTAMP:20260425T110315Z
DTSTART:20260508T190000
DTEND:20260508T210000
SUMMARY:Noch 2 freie Plätze.
LOCATION:unserem Lichtkreis mit dabei und
DESCRIPTION:✨Ritual des Lichtkreises✨\nNoch 2 freie Plätze.\n\nIm geschützten Rahmen kannst du direkt mit einer verstorbenen Person kommunizieren. Eine Friedensarbeit für dich und deine Ahnen. \nAnmeldung unter www.sonnewendlig.ch\nWir freuen uns auf dich.
END:VEVENT
END:VCALENDAR