BEGIN:VCALENDAR
VERSION:2.0
PRODID:-//Gather//weaved.ch//EN
BEGIN:VEVENT
UID:gather-14279@weaved.ch
DTSTAMP:20260424T110504Z
DTSTART:20260425T180000
DTEND:20260425T200000
SUMMARY:CELESTIAL SUNSET
LOCATION:at Udara\, Bali
DESCRIPTION:CELESTIAL SUNSET\n\n🗓️ Saturday\, April 25 2026\n⏰ 18.00-20.00\n👤 with the Udara Sound Healing Team\n📍 at Udara\, Bali\n\nJoin us for an enchanting ceremonial concert in the Quantum Dome\, where powerful acoustics and energy create deep immersion. Begin with a heart-opening cacao ceremony at sunset\, followed by a captivating fusion of Indonesian and global musical traditions.\n\nFeaturing classical strings\, shamanic rhythms\, Balinese chants and dance\, handpan or guitar melodies\, and resonant gongs—this evolving sound and visual journey invites deep connection\, presence\, and transformation.\n\n\n\n🎟️ Get your ticket: \nhttps://momence.com/l/dah4zPVV\nINTEGRATED KUNDALINI AWAKENING\n\n🗓️  Saturday\, 25 April\, 2026\n⏰  10.30-12.30\n👤  with Anna Sohana\n📍  at Udara\, Bali\n\nAwaken your Kundalini energy to clear blockages\, balance energy centers\, and support emotional\, spiritual\, and energetic healing. Expect deep relaxation\, energy shifts\, or intuitive insights.\n\nBefore the Session: Wear loose clothing\, eat lightly\, avoid substances. Bring eye cover and yoga mat if you like.\n\nNot for: Pregnancy\, epilepsy\, severe mental or heart conditions\, recent surgery\, substance use\, or under 16.\n\n\n\n\n🎟️ Get your ticket: https://momence.com/l/BGhlxykP
END:VEVENT
END:VCALENDAR