BEGIN:VCALENDAR
VERSION:2.0
PRODID:-//Gather//weaved.ch//EN
BEGIN:VEVENT
UID:gather-14275@weaved.ch
DTSTAMP:20260424T110709Z
DTSTART:20260424T143000
DTEND:20260424T163000
SUMMARY:If you’ve been craving a little more real connection lately\,  in a simple\, genui
LOCATION:schaffhauserstrasse 59\, schaffhauserstrasse 59\, Zürich
DESCRIPTION:If you’ve been craving a little more real connection lately\,  in a simple\, genuine way\, I think you might really enjoy this.\n\nA little warmth. A little depth. A little reminder that real community still exists.\n\nI would love to see you there\n\n*no more rsvp needed\n**@schaffhauserstrasse 59
END:VEVENT
END:VCALENDAR