BEGIN:VCALENDAR
VERSION:2.0
PRODID:-//Gather//weaved.ch//EN
BEGIN:VEVENT
UID:gather-14261@weaved.ch
DTSTAMP:20260424T104759Z
DTSTART:20260505
DTEND:20260506
SUMMARY:Neuer Workshop-Abend in Zürich! Alle Infos unter https://www.menbodywork.ch/unfo
LOCATION:Zürich
DESCRIPTION:Neuer Workshop-Abend in Zürich! Alle Infos unter https://www.menbodywork.ch/unfolding-genitals/
END:VEVENT
END:VCALENDAR