BEGIN:VCALENDAR
VERSION:2.0
PRODID:-//Gather//weaved.ch//EN
BEGIN:VEVENT
UID:gather-14260@weaved.ch
DTSTAMP:20260424T110319Z
DTSTART:20260503T200000
DTEND:20260503T220000
SUMMARY:Die LOVE LOUNGE ist eine Einladung in ein Feld echter Nähe.
LOCATION:Bern
DESCRIPTION:Die LOVE LOUNGE ist eine Einladung in ein Feld echter Nähe.\n\nEin Raum\, in dem du dir selbst begegnest – und von hier aus Anderen – achtsam\, präsent und berührbar.\n\nWir erinnern uns daran\, dass wir Menschen Verbundenheit und Berührung brauchen\, um weich zu werden\, um aufzutanken\, um uns lebendig zu fühlen.\n\nHier üben wir Miteinandersein – ehrlich\, spielerisch\, liebevoll und authentisch.\n\nDieser Abend darf dich in der Tiefe nähren\, dich ankommen lassen und dir Raum schenken\, so da zu sein\, wie du bist.\n\nSei willkommen.\nLass dich halten.\nLass dich berühren.\nLass dich nähren. \n\nAntara Bhadra & Team heißen dich von Herzen willkommen.\n\nAnmeldung & Info
END:VEVENT
END:VCALENDAR