BEGIN:VCALENDAR
VERSION:2.0
PRODID:-//Gather//weaved.ch//EN
BEGIN:VEVENT
UID:gather-14257@weaved.ch
DTSTAMP:20260424T110710Z
DTSTART:20260523T213000
DTEND:20260523T233000
SUMMARY:Pfingsten - 23. & 24.05 - in Jupiterhaus Zürich
LOCATION:Zürich
DESCRIPTION:Pfingsten - 23. & 24.05 - in Jupiterhaus Zürich \n\nKiss like a Butterfly? \n— Workshop Weekend with Till & Shirka\n\n★  Saturday / 23.05. / 14-18h / 60.-\n🦋 Flirt like a Butterfly! 🦋\nHow do you feel about your flirting skills?\n\nIt's all about practice:\n– Role-play to boost your confidence\n– Real interest: asking and listening\n– Compliments 🌀 and more\n✍🏼 Information and Signups here  ✅\n\nfollowed by...\n\n★  Saturday / 05.04. / 19-21.30h / 60.-\n💋 Curious Lips - Let’s kiss! 🫦 \n\nDo you like to kiss and be kissed? 🍒\nYou will explore different ways of kissing with different levels of intensity.\n🌀  The approach is slow\, playful\, communicative and fun!  🎉\n🌈Everyone are invited to go beyond usual filters (gender\, age\, body-type) to kiss with many different humans. 🏳️‍🌈\n✍🏼 Description and Sign-up here! ✅\n\n💸 Combi-Ticket for both Saturday-Workshops: 110.-\n\n🦋⋆︵‿︵‿୨🍑୧‿︵‿︵⋆🦋\n\n... and on Sunday we go to the Temple... \n\n★  Sunday / 24.05. / 13:30 - 20.30h / 150.-\n🌸 Spielwiese  - Temple 🏛\n\n🌀 3h guided journey / 3h free flow\nBreathwork & cuddles 🤗  cacao to open the heart ☕️\n✅ All Info & Sign up here\n\n🦋⋆︵‿︵‿୨💋୧‿︵‿︵⋆🦋\n\n🍑 «More Fun-tra than Tantra!»  🍑\n\nRetreat | TG-Channel  | Instagram
END:VEVENT
END:VCALENDAR