BEGIN:VCALENDAR
VERSION:2.0
PRODID:-//Gather//weaved.ch//EN
BEGIN:VEVENT
UID:gather-14256@weaved.ch
DTSTAMP:20260424T105739Z
DTSTART:20260424T220000
DTEND:20260425T000000
SUMMARY:Playfight / Presence Remains 🌀
LOCATION:Zürich
DESCRIPTION:Playfight / Presence Remains 🌀\nFr 24.4.26\, 19–22 Uhr\nTanzhaus Zürich\, Bühne 2\nCHF 45.– / reduziert CHF 35.–\n\nFür Menschen\, die Lust haben auf verkörperte Begegnung 🤝\nSpiel. Präsenz. Deep Listening.\nKörperdialog plus Meta Ebene.\nEin Feld\, in dem du Spannung\, Kontakt\, Grenzen und Lebendigkeit direkt erforschen kannst. 🔥🫀\n\nEin experimentelles Erfahrungsfeld.\n\n👕 Bitte langes Oberteil und lange Hose mitbringen.\n\nWeitere Daten: 22.5.26 / 3.7.26\nInfos & Tickets:\nhttps://www.movementmasterclass.com/playfight
END:VEVENT
END:VCALENDAR