BEGIN:VCALENDAR
VERSION:2.0
PRODID:-//Gather//weaved.ch//EN
BEGIN:VEVENT
UID:gather-14244@weaved.ch
DTSTAMP:20260424T110202Z
DTSTART:20260512
DTEND:20260518
SUMMARY:Küsten der Verbundenheit
LOCATION:ein Angebot aus Yoga\, Zürich
DESCRIPTION:Küsten der Verbundenheit \n≋ www.wander-retreats.eu ≋\n\n 🌅 12.-17.5.26 - Rügen\n● Retreat-Beitrag: 590–890 € (nach Einkommen\, Details auf Anfrage)\n● Last spot: 100€ Rabatt!\n● um Himmelfahrt – nur  3 Urlaubstage\n\n🌄 Sei herzlich eingeladen\, in einer kleinen Gruppe entlang herrlicher Pfade zu wandern - und dadurch auch Bewegung in deine inneren Prozesse zu bringen. So beleben wir Verbundenheit mit uns selbst\, den Mitmenschen & der Natur.\n\n🌅 Neben dem Wandern unterstützt dich dabei ein Angebot aus Yoga\, Selbsterfahrung\, Meditation\, Kontakt- und Bewusstheitsübungen\, Inputs und Rituale für Naturerfahrung u.v.m.\n\n✍️ \n@jonasminero \n🛜 www.wander-retreats.eu\n📸  www.instagram.com/wander.retreats.eu\n📥 https://tinyurl.com/gdvkdv-community\n\nHerzliche Grüße! ☀️
END:VEVENT
END:VCALENDAR