BEGIN:VCALENDAR
VERSION:2.0
PRODID:-//Gather//weaved.ch//EN
BEGIN:VEVENT
UID:gather-14243@weaved.ch
DTSTAMP:20260424T104951Z
DTSTART:20260510
DTEND:20260511
SUMMARY:VÄTER UND SÖHNE
LOCATION:Seminarhaus „Op de Hardt“\, Lausanne
DESCRIPTION:VÄTER UND SÖHNE\nDie Kraft der Begegnung\n\n"Du stehst an einem Übergang\, an dem Du langsam in Dein ganz eigenes Leben gehst. Zeig uns Dein Feuer und Deine Begeisterung\, denn Du wirst erwachsen."\n\nZum Beginn der sonnigen und warmen Frühlingszeit möchten wir Dich auf ein besonderes Seminar aufmerksam machen – für Väter\, Stiefväter\, Ziehväter und Paten\, die gemeinsam mit ihren Söhnen oder jungen Männern neue\, bereichernde Erfahrungen sammeln möchten.\n\nWir freuen uns auf ein Wiedersehen und ein neu Kennenlernen.\n\n⏰ Fr. 08. – So. 10. Mai 2026\n\n📍Seminarhaus „Op de Hardt“ | 57632 Kescheid / Westerwald\n\nLeitung: Alexander Gabriel & Stephan Weinand \n\nInfos und Anmeldung:\nwww.zipat.de | buero@zipat.de
END:VEVENT
END:VCALENDAR