BEGIN:VCALENDAR
VERSION:2.0
PRODID:-//Gather//weaved.ch//EN
BEGIN:VEVENT
UID:gather-14067@weaved.ch
DTSTAMP:20260423T120214Z
DTSTART:20260426T090000
DTEND:20260426T110000
SUMMARY:🌿✨ Morning Reset: Meditation\, Journaling & Mate✨🌿
LOCATION:Museum Rietberg\, Gablerstrasse 15\, Zürich
DESCRIPTION:🌿✨ Morning Reset: Meditation\, Journaling & Mate✨🌿\n\n**📅 April 26th \\| Zurich Rietberg MuseumPark \\| A mindful start to the next week** Step into a calm\, nourishing morning designed to help you slow down\, reconnect\, and set powerful intentions for the weeks ahead 🌞 Imagine guided meditation\, meaningful journaling prompts… and the smell of tea waiting for you. This is your invitation to pause the noise and come back to yourself. This is more than just a practice\, it’s a transformative experience. Schedule: * **09:00 – Arrival & welcome Mate** * **09:15 – Guided meditation: falling in love with yourself** * **09:45 – Journaling session** * **10:00 – Let go and release meditation** * **10:20– Connection + Mate** Please bring a blanket or something you can sit on if you do not want to sit on the grass :) We will go with the flow :) You will have enough time for your journaling. **“Suggested contribution: 20 CHF – pay what feels aligned for you.”**
END:VEVENT
END:VCALENDAR