BEGIN:VCALENDAR
VERSION:2.0
PRODID:-//Gather//weaved.ch//EN
BEGIN:VEVENT
UID:gather-14065@weaved.ch
DTSTAMP:20260423T120118Z
DTSTART:20260627
DTEND:20260628
SUMMARY:Sublet my room
LOCATION:Pfäffikon
DESCRIPTION:Sublet my room\n27. June - 30. July 2026\nin the beautiful 8330 Pfäffikon by the lake\nonly 4 min to the train station\n\nlet me know what you think :)
END:VEVENT
END:VCALENDAR