BEGIN:VCALENDAR
VERSION:2.0
PRODID:-//Gather//weaved.ch//EN
BEGIN:VEVENT
UID:gather-14058@weaved.ch
DTSTAMP:20260423T121046Z
DTSTART:20260424T180000
DTEND:20260424T200000
SUMMARY:The Deep Unwind - SURRENDER TO THE MOON
LOCATION:At Udara Bali\, Bali
DESCRIPTION:The Deep Unwind - SURRENDER TO THE MOON\n\n🗓️ Friday\, 24 April 2026\n⏱️ 18.00-20.00\n👥 With Hanna Hereandnow\n📍 At Udara Bali\n\nHealing the Threads of Attachment\nA Restorative Breath\, Movement & Theta Healing Journey with Live Music\nDecember Full Moon • Udara’s Lotus Temple\n\nJoin us for The Deep Unwind — a space to release tension\, soften old patterns\, and return to a deeper sense of safety within.\nThrough restorative movement\, deep breathwork\, and group theta healing\, we’ll gently open the heart and reconnect with ourselves.\nLive intuitive music by Hanna Hereandnow guides the journey with soulful vocals\, guitar\, and healing soundscapes.\n\nAs the December Full Moon rises\, we close with a fire ritual to release what no longer serves and call in clarity\, renewal\, and love.\n\nFind Hanna on Instagram: @hannahereandnow\nListen on Spotify: hanna hereandnow\n\nGet your ticket:\nhttps://momence.com/l/wyh0BWRn
END:VEVENT
END:VCALENDAR