BEGIN:VCALENDAR
VERSION:2.0
PRODID:-//Gather//weaved.ch//EN
BEGIN:VEVENT
UID:gather-14056@weaved.ch
DTSTAMP:20260423T121350Z
DTSTART:20260424T193000
DTEND:20260424T213000
SUMMARY:Liebe Ecstatic ROOTS Dance Community🔥
LOCATION:Steinenring 20\, Basel
DESCRIPTION:🔥Liebe Ecstatic ROOTS Dance Community🔥\n\nFreitag 24. April 2026 ist ROOTS time…\n\nankommen im Körper… \nankommen im JETZT… \nankommen bei Dir!\n\n19.30 - 22.00 Uhr \n(Türöffnung 19.15)\n\nKulturkirche Paulus\nSteinenring 20\, Basel\n\nEnergieausgleich 25.-  (bar)\nohne Anmeldung\n\nWir freuen uns auf EUCH ALLE !\n\nL O V E ❤️\nAhna & René\n\nmehr Infos: \nwww.ecstaticrootsdance.com
END:VEVENT
END:VCALENDAR