BEGIN:VCALENDAR
VERSION:2.0
PRODID:-//Gather//weaved.ch//EN
BEGIN:VEVENT
UID:gather-14054@weaved.ch
DTSTAMP:20260423T120818Z
DTSTART:20260516
DTEND:20260518
SUMMARY:Hast Du schon einmal Psychedelika genommen?
LOCATION:Lachen
DESCRIPTION:🍄 Hast Du schon einmal Psychedelika genommen?\n\n🐣 Du spürst eine Stimme die Veränderung möchte?\n\n🦋Du weisst nicht wie Du dieses Gefühl integrieren sollst?\n\n🌱 Du magst die Natur & bist gerne kreativ?\n\n\n✅ Dann bist Du richtig bei uns. \n\n🎨 Wir integrieren zusammen Deine Erfahrungen mit Substanzen. \n\n🪇 Wir malen\, gestalten und kreieren gemeinsam Musik.\n\n🛖 Im wachsenden Weidenhaus\, mit Sauna & viel Natur. \n\n🔥 Meld Dich jetzt an: \nStart@Visiontraining.ch  \nInfos Visiontraining
END:VEVENT
END:VCALENDAR