BEGIN:VCALENDAR
VERSION:2.0
PRODID:-//Gather//weaved.ch//EN
BEGIN:VEVENT
UID:gather-14049@weaved.ch
DTSTAMP:20260423T115957Z
DTSTART:20260424T193000
DTEND:20260424T213000
SUMMARY:Liebe Dance Community🔥
LOCATION:Steinenring 20\, Basel
DESCRIPTION:🔥Liebe Dance Community🔥\n\nFreitag 24. April 2026 ist wieder ROOTS time…\n\nankommen im Körper… \nankommen im JETZT… \nankommen bei Dir!\n\n19.30 - 22.00 Uhr \n(Türöffnung 19.15)\n\nKulturkirche Paulus\nSteinenring 20\, Basel\n\nEnergieausgleich 25.-  (bar)\nohne Anmeldung\n\nWir freuen uns auf EUCH ALLE !\n\nL O V E ❤️\nAhna & René\n\nmehr Infos: \nTelegram:  https://t.me/+nyGPNIRBnCo2OTlh\noder www.ecstaticrootsdance.com
END:VEVENT
END:VCALENDAR