BEGIN:VCALENDAR
VERSION:2.0
PRODID:-//Gather//weaved.ch//EN
BEGIN:VEVENT
UID:gather-14037@weaved.ch
DTSTAMP:20260423T120234Z
DTSTART:20260503T110000
DTEND:20260503T130000
SUMMARY:Great Rising Dear Family\,
LOCATION:Zürich
DESCRIPTION:Great Rising Dear Family\,\nFrom the heart\, may you walk in strength\, clarity\, and alignment with your path.\nWith joy\, we open the space for our next Temazcal. A return to the womb of Mother Earth\, to remember\, to release\, to cleanse\, and to renew. Through heat\, prayer\, song\, and silence\, we step into transformation together. This is a space to let go of what no longer serves and to welcome what is calling you forward. On this day\, Las Hermanas will be also sharing their handcrafted South American creations - sacred objects infused with intention and ancestral energy.\n\nExplore here: \n\nhttps://www.instagram.com/las.hermanas.artesania.magica\n\nLet us gather as one tribe\, remembering\, healing is a shared path.\n\nDetails\nSunday\, 03.05.2026 — Zurich Höngg\nTemazcal begins: 11:00\nClosing: ~17:00\nSuggested Contribution: 100 CHF\n+41 76 66 43 303\n\nPlease bring\nWater\nFruits / food to share\nInstruments (maracas available to buy)\nWomen: long\, lightweight dress
END:VEVENT
END:VCALENDAR