BEGIN:VCALENDAR
VERSION:2.0
PRODID:-//Gather//weaved.ch//EN
BEGIN:VEVENT
UID:gather-14027@weaved.ch
DTSTAMP:20260423T120649Z
DTSTART:20260503
DTEND:20260504
SUMMARY:Für die kurz entschlossenen Hexen und Zauberer  unter euch!
DESCRIPTION:Für die kurz entschlossenen Hexen und Zauberer  unter euch! \n\nWir tanzen zum Vollmond\, feiern BELTANE\, machen Frauen und Männerkreise\, machen Schwitzhütte & Heilarbeit in den wunderschönen\, kraftvollen Vogesen.🌹 🌕 🌹\n\nWir freuen uns irrsinnig
END:VEVENT
END:VCALENDAR