BEGIN:VCALENDAR
VERSION:2.0
PRODID:-//Gather//weaved.ch//EN
BEGIN:VEVENT
UID:gather-14025@weaved.ch
DTSTAMP:20260423T120509Z
DTSTART:20261009
DTEND:20261010
SUMMARY:Through movement\, touch\, and exploration\, we’ll...
LOCATION:Bern
DESCRIPTION:✨ Join us for a unique weekend where dance and playfight become a living language of connection ✨\n\nThrough movement\, touch\, and exploration\, we’ll...\n🌱 Explore authentic expression\n🌱 Play with boundaries and trust\n🌱 Move beyond comfort into connection\n\n🗓 May 9-10\, 2026\n🏡 House of Zoukies | Somatic Health Studio\, Bern\, Switzerland\n\n🎁 Still 3 days for the Early bird! 📣\n🔜 Save your spot here
END:VEVENT
END:VCALENDAR