BEGIN:VCALENDAR
VERSION:2.0
PRODID:-//Gather//weaved.ch//EN
BEGIN:VEVENT
UID:gather-14024@weaved.ch
DTSTAMP:20260423T120939Z
DTSTART:20260613
DTEND:20260619
SUMMARY:The Light She Is
LOCATION:Draußenzeit\, Münsterland
DESCRIPTION:✨ Kundalini Yoga Women’s Camp 2026\nThe Light She Is\nZum siebten Mal kommen wir zusammen.\nIn der Draußenzeit im Münsterland.\nIm Kreis. Im Wald. Für ein paar Tage zurück in das\, was wirklich trägt.\nDieses Jahr geht es nicht darum zu bleiben.\nIm Körper.\nIm Fühlen.\nAuch wenn es eng wird.\nThe Light She Is\nist eine Entscheidung.\nZu bleiben\, wenn es herausfordernd wird.\nSich nicht mehr zu verlassen.\nUnd das Licht nicht länger zurückzuhalten.\nGerade in dieser Zeit\,\nin der so viel im Außen passiert\,\nliegt darin die Kraft:\npräsent zu bleiben und sich nicht zu verlieren.\nSechs Tage lang tauchen wir gemeinsam ein in:\n- Kundalini Yoga\n- Kirtan\, Feuer & Stimme\n- Stille\, Ritual und echtes Sein in Schwesternschaft\n\n📍 Draußenzeit\, Münsterland\n📆 13.–18. Juni 2026\n📬 Infos & Anmeldung: @artemisiawisdom.com\n\nWenn du spürst\, dass es dich ruft\, bist du willkommen.
END:VEVENT
END:VCALENDAR