BEGIN:VCALENDAR
VERSION:2.0
PRODID:-//Gather//weaved.ch//EN
BEGIN:VEVENT
UID:gather-14022@weaved.ch
DTSTAMP:20260423T120119Z
DTSTART:20260523T100000
DTEND:20260523T120000
SUMMARY:Ein Körperorientiertes Meditationswochenende
LOCATION:Freiburg (nahe dem „Alten Wiehrebahnhof“)\, Fribourg
DESCRIPTION:Ein Körperorientiertes Meditationswochenende  \nDatum: 23.–24. Mai 2026  \nZeit: 10:00–17:00 Uhr  \nOrt: Freiburg (nahe dem „Alten Wiehrebahnhof“)  \n\nTauche ein in ein Wochenende der Stille\, Meditation und Weisheit in einem Jugendstil-Raum mit inspirierender Atmosphäre. Dieses Retreat bietet dir die Möglichkeit\, die Natur deines Geistes zu erforschen und zu verkörpern.  \n\nHighlights:  \n- Geführte Meditationen zur Vertiefung der Achtsamkeit  \n- Qigong und Kum Nye: Sanfte Körperübungen zur Lösung von Spannungen\n- Erforschung der vier Grundlagen der Achtsamkeit \n- Einführung in das Modell der acht Bewusstseinsarten (Cittamatra)  \n\n\nKosten: 250 € pro Person  \n\n- E-Mail: judith@zenpanther.org  \n- WhatsApp/Telegram: +44 7733 343437  \n\nDieses Wochenende ist eine wunderbare Gelegenheit\, Klarheit\, Gedankenfreiheit und eine tieferes  Sein zu erfahren.  \nwww.zenpanther.org
END:VEVENT
END:VCALENDAR