BEGIN:VCALENDAR
VERSION:2.0
PRODID:-//Gather//weaved.ch//EN
BEGIN:VEVENT
UID:gather-13863@weaved.ch
DTSTAMP:20260422T111713Z
DTSTART:20260422T190000
DTEND:20260422T210000
SUMMARY:The Science of Happiness\, Talk and Meditation with Dr. Prashant K. UK
LOCATION:Brahma Kumaris Rajyoga - Das Meditations-Center für alle\, Regensbergstrasse 240\, 8050\, Zürich
DESCRIPTION:The Science of Happiness\, Talk and Meditation with Dr. Prashant K. UK\n\nDr. Prashant is highly regarded for his insightful and clear explanations. He impressively breaks down the connections between consciousness\, emotions\, and health. He has published these insights in various books. “Today’s society is characterized by limitations. For this civilization to survive\, a fundamental shift in consciousness is necessary.” **The lecture at our center addresses the difficult yet simple question: HOW CAN I BE HAPPIER?** Lecture and meditation in English with German translation. Free of Charge. Welcome!
END:VEVENT
END:VCALENDAR