BEGIN:VCALENDAR
VERSION:2.0
PRODID:-//Gather//weaved.ch//EN
BEGIN:VEVENT
UID:gather-13857@weaved.ch
DTSTAMP:20260422T111332Z
DTSTART:20260422T190000
DTEND:20260422T210000
SUMMARY:Die Wissenschaft vom Glück - Vortrag und Meditation mit Dr. Prashant\, UK
LOCATION:Brahma Kumaris Rajyoga - Das Meditations-Center für alle\, Regensbergstrasse 240\, 8050\, Zürich
DESCRIPTION:Die Wissenschaft vom Glück - Vortrag und Meditation mit Dr. Prashant\, UK\n\nDr. Prashant wird für seine aufschlussreichen und klaren Erklärungen hoch geschätzt. Er zerlegt beeindruckend die Zusammenhänge zwischen Bewusstsein\, Emotionen und Gesundheit. Diese Erkenntnisse hat er in verschiedenen Büchern veröffentlicht. “Die heutige Gesellschaft ist von Einschränkungen geprägt. Damit diese Zivilisation überleben kann\, ist eine grundlegende Bewusstseinsveränderung notwendig.” **Der Vortrag in unserem Zentrum widmet sich der schwierigen und doch einfachen Frage: WIE KANN ICH GLÜCKLICHER SEIN?** Vortrag und Meditation auf Englisch mit deutscher Übersetzung. Eintritt frei
END:VEVENT
END:VCALENDAR