BEGIN:VCALENDAR
VERSION:2.0
PRODID:-//Gather//weaved.ch//EN
BEGIN:VEVENT
UID:gather-13816@weaved.ch
DTSTAMP:20260422T111221Z
DTSTART:20260503T170000
DTEND:20260503T190000
SUMMARY:Wie bei allen keltischen Jahreskreisfesten öffnet sich zu Beltane das Tor zur An
LOCATION:Hubstrasse 33\, Bassersdorf
DESCRIPTION:.... Wie bei allen keltischen Jahreskreisfesten öffnet sich zu Beltane das Tor zur Anderswelt ein Stück weiter. In diesem Workshop wagen wir den Schritt hinüber – um zu erfahren\, wie wir Freude\, Lebenskraft und Neubeginn bewusst in unser tägliches Leben einladen können.\n\nBist du bereit\, deinen Besen zu reiten? ✨\n\nDich erwartet eine besinnliche Zeremonie mit zwei Trommelreisen\, Ritualen\, Gemeinschaft und Austausch im kleinen Kreis (max 9 TN). Wir reisen gemeinsam\, jede*r mit seinem Thema.
END:VEVENT
END:VCALENDAR