BEGIN:VCALENDAR
VERSION:2.0
PRODID:-//Gather//weaved.ch//EN
BEGIN:VEVENT
UID:gather-13813@weaved.ch
DTSTAMP:20260422T110931Z
DTSTART:20260424
DTEND:20260425
SUMMARY:Freie Termine diese Woche ✨ – schenk dir einen Moment voller Geborgenheit und ti
DESCRIPTION:Freie Termine diese Woche ✨ – schenk dir einen Moment voller Geborgenheit und tiefer Ruhe 🤍: Meine Klangschalenmassage berührt Herz und Seele und kann durch sanfte Schwingungen nachweislich Stress reduzieren sowie tiefe Entspannung im Nervensystem fördern. \nLiebe Grüsse \nMalaika
END:VEVENT
END:VCALENDAR