BEGIN:VCALENDAR
VERSION:2.0
PRODID:-//Gather//weaved.ch//EN
BEGIN:VEVENT
UID:gather-13796@weaved.ch
DTSTAMP:20260422T110629Z
DTSTART:20270327
DTEND:20270328
SUMMARY:I sell my beautyful Hanika Guitar.
LOCATION:LRA Erfangen-Höchstadt\; Umweltame\, Genf
DESCRIPTION:I sell my beautyful Hanika Guitar.\nWith Certificate.\nIt's not much played and verry well handled.\nPrice: 1000.-\nNP. 1300.-
END:VEVENT
END:VCALENDAR