BEGIN:VCALENDAR
VERSION:2.0
PRODID:-//Gather//weaved.ch//EN
BEGIN:VEVENT
UID:gather-13795@weaved.ch
DTSTAMP:20260425T110317Z
DTSTART:20260808
DTEND:20260809
SUMMARY:Was machst du in den Sommerferien?
LOCATION:lindadoerig.com
DESCRIPTION:Was machst du in den Sommerferien?\n\nEinfach draussen sein\nNaturerlebnis für alle 02.-08.08.26\noder\nFrauen-Retreat inkl Coaching 09.-15.08.26\nBist du dabei?\nInfo@lindadoerig.com\nWww.lindadoerig.com\nIch freue mich auf dich!❤️
END:VEVENT
END:VCALENDAR