BEGIN:VCALENDAR
VERSION:2.0
PRODID:-//Gather//weaved.ch//EN
BEGIN:VEVENT
UID:gather-13790@weaved.ch
DTSTAMP:20260422T110758Z
DTSTART:20260530T093000
DTEND:20260530T113000
SUMMARY:Wir freuen uns sehr auf euch! Herzlichst Hampi und Mirjam
LOCATION:dennoch innere Unzufriedenheit oder das Gefühl\, Lausanne
DESCRIPTION:✨Trance-Techniken\, wie sie im Intuitiven Trance Healing nach Hampi van de Velde vermittelt werden\, sind für viele das fehlende Puzzleteil auf dem Weg zu mehr innerer Klarheit\, Selbstvertrauen und geistiger Ausrichtung. Wer lernt\, mit diesen Techniken zu leben\, erfährt nicht nur eine beständige und zugleich steuerbare Verbindung zu geistigen und übersinnlichen Kräften – sondern beginnt auch\, das eigene Leben und Wirken auf neue Weise zu lesen.\n\n✨Der Kurs „TRANCE TECHNIKEN VERSTEHEN“ bietet einen lebbaren\, praxisnahen Weg\, Lebensumstände und Herausforderungen als Botschaften des Herzens zu erkennen – und zu verstehen\, was sie uns wirklich sagen wollen.\n\n❤️ Wir freuen uns sehr auf euch! Herzlichst Hampi und Mirjam\n\n✨Hier mehr erfahren und anmelden:\n\nhttps://raumimhof.ch/event/?id=1064\n✨Trance-Techniken\, wie sie im Intuitiven Trance Healing nach Hampi van de Velde vermittelt werden\, sind für viele das fehlende Puzzleteil auf dem Weg zu mehr innerer Klarheit\, Selbstvertrauen und geistiger Ausrichtung. Wer lernt\, mit diesen Techniken zu leben\, erfährt nicht nur eine beständige und zugleich steuerbare Verbindung zu geistigen und übersinnlichen Kräften – sondern beginnt auch\, das eigene Leben und Wirken auf neue Weise zu lesen.\n\n✨Der Kurs „TRANCE TECHNIKEN VERSTEHEN“ bietet einen lebbaren\, praxisnahen Weg\, Lebensumstände und Herausforderungen als Botschaften des Herzens zu erkennen – und zu verstehen\, was sie uns wirklich sagen wollen.\n\n❤️ Wir freuen uns sehr auf euch! Herzlichst Hampi und Mirjam\n\n✨Hier mehr erfahren und anmelden:\n\nhttps://raumimhof.ch/event/?id=1064\n✨Trance-Techniken\, wie sie im Intuitiven Trance Healing nach Hampi van de Velde vermittelt werden\, sind für viele das fehlende Puzzleteil auf dem Weg zu mehr innerer Klarheit\, Selbstvertrauen und geistiger Ausrichtung. Wer lernt\, mit diesen Techniken zu leben\, erfährt nicht nur eine beständige und zugleich steuerbare Verbindung zu geistigen und übersinnlichen Kräften – sondern beginnt auch\, das eigene Leben und Wirken auf neue Weise zu lesen.\n\n✨Der Kurs „TRANCE TECHNIKEN VERSTEHEN“ bietet einen lebbaren\, praxisnahen Weg\, Lebensumstände und Herausforderungen als Botschaften des Herzens zu erkennen – und zu verstehen\, was sie uns wirklich sagen wollen.\n\n❤️ Wir freuen uns sehr auf euch! Herzlichst Hampi und Mirjam\n\n✨Hier mehr erfahren und anmelden:\n\nhttps://raumimhof.ch/event/?id=1064\n✨Trance-Techniken\, wie sie im Intuitiven Trance Healing nach Hampi van de Velde vermittelt werden\, sind für viele das fehlende Puzzleteil auf dem Weg zu mehr innerer Klarheit\, Selbstvertrauen und geistiger Ausrichtung. Wer lernt\, mit diesen Techniken zu leben\, erfährt nicht nur eine beständige und zugleich steuerbare Verbindung zu geistigen und übersinnlichen Kräften – sondern beginnt auch\, das eigene Leben und Wirken auf neue Weise zu lesen.\n\n✨Der Kurs „TRANCE TECHNIKEN VERSTEHEN“ bietet einen lebbaren\, praxisnahen Weg\, Lebensumstände und Herausforderungen als Botschaften des Herzens zu erkennen – und zu verstehen\, was sie uns wirklich sagen wollen.\n\n❤️ Wir freuen uns sehr auf euch! Herzlichst Hampi und Mirjam\n\n✨Hier mehr erfahren und anmelden:\n\nhttps://raumimhof.ch/event/?id=1064\n✨Trance-Techniken\, wie sie im Intuitiven Trance Healing nach Hampi van de Velde vermittelt werden\, sind für viele das fehlende Puzzleteil auf dem Weg zu mehr innerer Klarheit\, Selbstvertrauen und geistiger Ausrichtung. Wer lernt\, mit diesen Techniken zu leben\, erfährt nicht nur eine beständige und zugleich steuerbare Verbindung zu geistigen und übersinnlichen Kräften – sondern beginnt auch\, das eigene Leben und Wirken auf neue Weise zu lesen.\n\n✨Der Kurs „TRANCE TECHNIKEN VERSTEHEN“ bietet einen lebbaren\, praxisnahen Weg\, Lebensumstände und Herausforderungen als Botschaften des Herzens zu erkennen – und zu verstehen\, was sie uns wirklich sagen wollen.\n\n❤️ Wir freuen uns sehr auf euch! Herzlichst Hampi und Mirjam\n\n✨Hier mehr erfahren und anmelden:\n\nhttps://raumimhof.ch/event/?id=1064
END:VEVENT
END:VCALENDAR