BEGIN:VCALENDAR
VERSION:2.0
PRODID:-//Gather//weaved.ch//EN
BEGIN:VEVENT
UID:gather-13780@weaved.ch
DTSTAMP:20260422T110346Z
DTSTART:20260605T190000
DTEND:20260605T210000
SUMMARY:Heute Abend! 😍
LOCATION:Klusterten 2626\, Höggerstrasse 2\, Zürich
DESCRIPTION:Heute Abend! 😍 \nEcstatic Dance/Akustischer Ein & Ausklang jeden 2. Dienstag \n21. April mit DJ Kraftschatz & Danish\nWeitere Daten:\n*April 28 Ecstatic Dance Workshop „My Space in Motion“ mit Zaira&Indrani\nMai: 5. und 19.\nJuni: 2. / 16. und 30.\n❤️‍🔥\nAnkommen 19 Uhr\, Event 19:30 - 21:30 Uhr \nAdresse: DanceSquare22\, Max-Höggerstrasse 2\, 2. Stock\, 8048 Zürich \nÖV: 5 Min. zu Fuss ab Bahnhof Altstetten \nTickets: 35.- Bar an der Abendkasse sehr willkommen!\n\nWichtige Info: Falls du mal später kommst und die Eingangstüre zu ist\, linkerhand hat es ein Code Kästchen und mit 8048 und Glocke drücken öffnet sich die Türe.
END:VEVENT
END:VCALENDAR