BEGIN:VCALENDAR
VERSION:2.0
PRODID:-//Gather//weaved.ch//EN
BEGIN:VEVENT
UID:gather-13779@weaved.ch
DTSTAMP:20260422T110336Z
DTSTART:20260514
DTEND:20260518
SUMMARY:Quellen deiner Kraft – Yoga Retreat mit Guntscha & Izabela
DESCRIPTION:Quellen deiner Kraft – Yoga Retreat mit Guntscha & Izabela\n14. – 17. Mai 2026\nZentrum der Einheit – Schweibenalp\n\nZeit zum Ankommen\, Durchatmen und neue Energie schöpfen\n\nDieses Retreat lädt dich ein\, für ein paar Tage aus dem Alltag auszusteigen und dich wieder mit deiner eigenen Kraftquelle zu verbinden. Inmitten der Natur der Schweibenalp entsteht Raum für Ruhe\, Klarheit und innere Stabilität.\n\nMit einer ausgewogenen Mischung aus Bewegung und Stille begleiten dich Guntscha und Izabela durch verschiedene Yoga-Stile und achtsame Praxis.\n\n• Vinyasa & Hatha Yoga (aktiv & kräftigend)\n• Yin Yoga & Yoga Nidra (ruhig & regenerierend)\n• Atemtechniken\, Meditation & innere Reinigung\n• Zeit für dich und Naturerfahrung\n\nEgal ob Anfänger:in oder erfahren – du bist willkommen.\n\nAm Ende nimmst du neue Energie\, innere Ruhe und mehr Verbindung zu dir selbst mit in deinen Alltag.\n\nAnmeldung
END:VEVENT
END:VCALENDAR