BEGIN:VCALENDAR
VERSION:2.0
PRODID:-//Gather//weaved.ch//EN
BEGIN:VEVENT
UID:gather-13656@weaved.ch
DTSTAMP:20260421T095809Z
DTSTART:20260426T193000
DTEND:20260426T213000
SUMMARY:Sound Healing with Aurelia
LOCATION:Yoga Pilates Studio Zürich\, Zwinglistrasse 12\, meetup1\, Zürich
DESCRIPTION:Sound Healing with Aurelia\n\nAn evening of sound\, voice\, and space. Aurelia brings her voice in a very unique way. Originally trained as a classical singer\, she later moved into music therapy—and for quite some time now\, she has been deepening her work with sound\, vibration\, and what it can evoke in the body. I know her as sensitive and attentive\, yet also full of fire. There is something very alive in her that naturally flows into her work. This is her first sound healing in Zurich. 📆 Sunday\, April 26 ⏰ 7:30–8:45 PM 📍 Yoga Pilates Studio\, Zwinglistrasse 12\, Zurich 💰 Contribution: CHF 40 ✉️ Registration: soundelic.healing@gmail.com ---‐--------------------------------------------- Ein Abend mit Klang\, Stimme und Raum. Aurelia bringt ihre Stimme auf eine sehr eigene Weise ein. Ursprünglich klassisch ausgebildete Sängerin\, später Musiktherapie – und seit längerer Zeit vertieft in die Arbeit mit Klang\, Schwingung und dem\, was das im Körper auslösen kann. Ich kenne sie als fein\, aufmerksam und gleichzeitig mit viel Feuer. Da ist etwas sehr Lebendiges in ihr\, das auch in ihre Arbeit fliesst. Das hier ist ihr erstes Sound Healing in Zürich. 📆 Sonntag\, 26. April ⏰ 19:30–20:45 📍 Yoga Pilates Studio\, Zwinglistrasse 12\, Zürich 💰 Beitrag: CHF 40 ✉️ Anmeldung: soundelic.healing@gmail.com
END:VEVENT
END:VCALENDAR