BEGIN:VCALENDAR
VERSION:2.0
PRODID:-//Gather//weaved.ch//EN
BEGIN:VEVENT
UID:gather-13602@weaved.ch
DTSTAMP:20260421T100445Z
DTSTART:20260423T194500
DTEND:20260423T214500
SUMMARY:Namaste\, diesen Donnerstag singen wir wieder ein „old-is-gold“ alltime Hit „Gam 
LOCATION:Klingenstrasse 42\, Zürich
DESCRIPTION:Namaste\, diesen Donnerstag singen wir wieder ein „old-is-gold“ alltime Hit „Gam Ganapataye namo namaha“ (Bild anklicken für Ton)✨💛✨\n\nIn Indien wurde gerade Neujahr gefeiert. Es macht auch für den Westen Sinn\, frischen Wind in die Sachen zu bringen\, der Frühling hat diese Energie von Natur aus. 🌱🎶 Des weiterens singen wir Sarasvati Mantra für Weisheit\, Jay radha madhava für Süsse im Leben und Hingabe\, 🥰 und weitere Mantras…✨\n\nWann: Do\, 23. April\, 19:45-21:15 Uhr\nTüröffnung: 19:15 Uhr\nWo: Nandalayoga\nKlingenstrasse 42\n8005 Zürich\nBeitrag: 35.- bar/Twint (Legi 25.-)\nAnmeldung: Nicht nötig\, einfach kommen 🤗\n\nॐ शान्तिः✨🌺✨\nKevin & Kirtan-Team ✨🌸✨
END:VEVENT
END:VCALENDAR