BEGIN:VCALENDAR
VERSION:2.0
PRODID:-//Gather//weaved.ch//EN
BEGIN:VEVENT
UID:gather-13601@weaved.ch
DTSTAMP:20260421T095638Z
DTSTART:20260426T210000
DTEND:20260426T230000
SUMMARY:Diesen Sonntag CI Workshop von 17 - 21 Uhr in St. Gallen. Elisabeth Weber und St
LOCATION:ci-ost.ch\, Felsenstr. 33\, St. Gallen
DESCRIPTION:Diesen Sonntag CI Workshop von 17 - 21 Uhr in St. Gallen. Elisabeth Weber und Stefan Benz freuen sich auf dich. \n\nBitte schnell anmelden: info@ci-ost.ch  \nInfo: www.ci-ost.ch
END:VEVENT
END:VCALENDAR