BEGIN:VCALENDAR
VERSION:2.0
PRODID:-//Gather//weaved.ch//EN
BEGIN:VEVENT
UID:gather-13592@weaved.ch
DTSTAMP:20260421T100048Z
DTSTART:20260422T163000
DTEND:20260422T183000
SUMMARY:Lieber HerzMensch
LOCATION:zu sein 🤗.
DESCRIPTION:Lieber HerzMensch\n\nNochmals ein starkes Frühlings- Aufstellungsseminar 🦋🐝💫 diesen\n\nMittwoch\, 22.April 2026\, 16.30 - 22 Uhr\n\nDu bist herzlich eingeladen\, als StellvertreterIn mit dabei zu sein 🤗. \n\nBei Interesse schreib mir kurz eine PN.\n\nIch freue mich auf ein Wiedersehen im HerzRaum.\n\nHerzUmarmung 💞 Mana\n\n\n           
END:VEVENT
END:VCALENDAR