BEGIN:VCALENDAR
VERSION:2.0
PRODID:-//Gather//weaved.ch//EN
BEGIN:VEVENT
UID:gather-13589@weaved.ch
DTSTAMP:20260421T101040Z
DTSTART:20260423T073000
DTEND:20260423T093000
SUMMARY:Happy Monday morning ☀️
LOCATION:jenseits\, Viaduktstrasse 65\, 8005\n\nIn\, Zürich
DESCRIPTION:Happy Monday morning ☀️\n\nI’m truly excited to guide the first Ecstatic Dance Deep Dive session of 2026. 🌱🌸\n\nIn this Deep Dive\, we come together in a small\, intimate group to create a space where the nervous system can gently settle. \n\nThrough movement\, we reconnect with the parts of ourselves we may have pushed away or lost touch with. Anger\, joy\, grief\, ecstasy\, stillness\, silence—everything is welcome here\, everything is allowed to move\, shift\, and transform. Within this circle\, we remember ourselves as whole.\n\nJohanna\, founder of Ecstatic Dance Zurich\, brings over a decade of experience in guiding people into grounded connection through movement\, music\, and voice. As a Reflector in Human Design\, she is attuned to the collective field and leads in response to what is alive in the moment.\n\nDates: 23.4./ 18.6. / 20.8. / 22.10. / 19.11. \nTime: 7:30-10:00pm\nLocation: jenseits\n\nTicket link: http://ecstaticdance.ch/dates\nOnly a few tickets left! \n\nWith great anticipation\,\nJohanna
END:VEVENT
END:VCALENDAR