BEGIN:VCALENDAR
VERSION:2.0
PRODID:-//Gather//weaved.ch//EN
BEGIN:VEVENT
UID:gather-13577@weaved.ch
DTSTAMP:20260421T100827Z
DTSTART:20260530
DTEND:20260531
SUMMARY:Ausatmen. Entspannen. Sein. Ausdehnen.
DESCRIPTION:Ausatmen. Entspannen. Sein. Ausdehnen.\nIch lande in meinem Körper. Und beginne zu lauschen. Den Bewegungen in mir. Dem Raum zwischen uns. Bis wir uns begegnen. In der ersten zarten Berührung. Im Tanz. In endlosen Spiralen. Wir lassen uns überraschen. Lassen uns los. Und finden uns wieder. Spielend. Fliegend. Mal fein und ruhig. Mal wild und dynamisch.\nWas entsteht zwischen uns\, wenn ich mich nicht anstrenge sondern entstehen lasse? Was entsteht\, wenn wir uns zuhörend begegnen und das “machen” reduzieren?\n\n🌱 Spring Expansion is coming up soon — a few spots are still available\n25-30 May\n\nFor the fourth time\, we return to Alpe Pianello in spring—\na vivid\, wild place and it feels less like stumbling into a small\, playful\, freaky utopic village. 🌱\n\nWe are very much looking forward to meet again 😍\n\nDavid & Ester\n\nhttps://t.me/+ZPkH6Iz3GnliZjU0
END:VEVENT
END:VCALENDAR