BEGIN:VCALENDAR
VERSION:2.0
PRODID:-//Gather//weaved.ch//EN
BEGIN:VEVENT
UID:gather-13576@weaved.ch
DTSTAMP:20260421T101404Z
DTSTART:20260424T193000
DTEND:20260424T213000
SUMMARY:Ecstatic Dance 🌟
LOCATION:Bern
DESCRIPTION:🌟 Ecstatic Dance 🌟\nFreitag 24. April\n\nLass die Musik durch dich tanzen.\nVerschmilz mit dem Moment.\nEin Abend für freien Ausdruck\, echte Verbindung\nund Bewegung\, die von innen kommt.\n\nDu & unser Dance Floor?\nDas matcht.\nLässt du dich auf dieses Date ein?\n\n19:30 – 22:00 | Doors 19:10\nUnsere Türen sind offen – komm wie es für dich passt.\n\nDance Passion\, Dalmaziquai 69\, Bern\n(Eingang Level Aare)\n\natema-events.ch
END:VEVENT
END:VCALENDAR