BEGIN:VCALENDAR
VERSION:2.0
PRODID:-//Gather//weaved.ch//EN
BEGIN:VEVENT
UID:gather-13575@weaved.ch
DTSTAMP:20260421T100643Z
DTSTART:20260423T190000
DTEND:20260423T210000
SUMMARY:Dance Jam Baden – das ist freies Tanzen zu Live-Musik in der Sebastianskapelle m
LOCATION:Baden
DESCRIPTION:Dance Jam Baden – das ist freies Tanzen zu Live-Musik in der Sebastianskapelle mitten im malerischen Altstädtchen von Baden. Der Dance Jam ist ein stets einzigartiges\, spielerisches und manchmal tiefgreifendes Bewegungs- und Hörerlebnis: Von ruhig und meditativ bis ekstatisch und wild ist alles dabei. Tanze für dich allein oder mit andern\, getragen von den Klängen der live improvisierten Musik. Wir freuen uns riesig auf die zwei brillanten Musiker Shakya (Cello\, Gitarre und mehr) und Jacek Crobbs (von Umanaya\, mit Perkussion\, Didgeridoo und mehr).\n\nMitbringen:\n• Kleider\, in denen du dich gut bewegen kannst\, du kannst dich in der Kapelle umziehen.\n• eine Wasserflasche\nTüröffnung: 19.00h – bitte sei früh genug dort\nStart: 19:30h - Ende: 21:30h\nAbendkasse: 40.-\nweitere Infos: 👉hier
END:VEVENT
END:VCALENDAR