BEGIN:VCALENDAR
VERSION:2.0
PRODID:-//Gather//weaved.ch//EN
BEGIN:VEVENT
UID:gather-13566@weaved.ch
DTSTAMP:20260421T100948Z
DTSTART:20260515
DTEND:20260518
SUMMARY:Mein wilder stiller Raum🔥
LOCATION:Lachen
DESCRIPTION:🌊Mein wilder stiller Raum🔥\n\nDein Raum erforschen und deine Wildnatur erwecken.\n\nRetreat an der Sense im Felsenhaus\n15. - 17. Mai 2026\nFr 16.oo bis So 16.oo \n\nEs hat noch 3-4 Plätze\, ruft es Dich? Der Frühbucher geht noch bis Ende April! 🧚‍♀️\n\nDie nährende Zeit in der Einfachheit der Natur und in der Gruppe darf dich zu deinem einzigartigen\, stillen und wilden Wesen in dir zurückführen. Was ruft in dir? Welche inneren Räume möchten sich dir zeigen? Wie möchte dein Raum schwingen? Deine inneren und äusseren Räume dürfen lebendig und pulsierend in dein Leben fliessen.\n\n…mit viel Natur\, Verkörperung\, Tanz\, Austausch und kreativem Erforschen und Schöpfen\, Meditation\, Atem\, Klang und Stimme\, Yoga und Bewegungsimpulsen.\n\nWir freuen uns auf Dich!\nCoia und Selina\n\nFür mehr Infos und Anmeldung komme gerne auf uns zu:\nCoia: 079 753 45 17  www.coiaheld.ch\nSelina: 078 862 20 60\nwww.selina-frei.ch
END:VEVENT
END:VCALENDAR