BEGIN:VCALENDAR
VERSION:2.0
PRODID:-//Gather//weaved.ch//EN
BEGIN:VEVENT
UID:gather-13415@weaved.ch
DTSTAMP:20260420T105444Z
DTSTART:20260425T100000
DTEND:20260425T120000
SUMMARY:Easy Yoga & Tasty Brunch
LOCATION:ANNTIN wellbeing studio\, Bahnhofplatz 8\, 8152 Opfikon\, Opfikon
DESCRIPTION:Easy Yoga & Tasty Brunch\n\n🌻 **Start weekend with movement and delicious food** 🥐 🗓 **Date:** Saturday\, 25.04 🕗 **Time:** 10:00 – 12:00 🎟 **Entry:** 45 CHF (limited spots: 12) 🔗 **Tickets:** [https://www.eversports.ch/org/activity/2231e5cc-45db-4cb6-b820-cb854a2d0a43](https://www.eversports.ch/org/activity/2231e5cc-45db-4cb6-b820-cb854a2d0a43) 📍 **Location:**[ ANNTIN studio\,](https://www.anntin.ch/) [in front of ](https://maps.app.goo.gl/MM8ojDWrJ1FWDyhu7)**[Glattbrugg](https://maps.app.goo.gl/MM8ojDWrJ1FWDyhu7)**[ train station](https://maps.app.goo.gl/MM8ojDWrJ1FWDyhu7) (10 min from HB\, 7 min from Hardbrücke\, 2 min from Oerlikon) ⸻ **What to expect** 🧘 **10:00 – 11:00:** Beginner-friendly Hatha Yoga 🥐 **11:00 – 12:00:** Social Brunch & connections ⸻ Join for a Saturday morning that balances movement with a relaxed meal. We’ll start with gentle Hatha Yoga perfect for stretching out and waking up the body (suitable for all levels). Followed by a delicious brunch in the studio's chill area\, it’s an easy-going way to enjoy some food and connect with others in a welcoming\, low-pressure setting. **Reserve your spot with a ticket:** [https://www.eversports.ch/org/activity/2231e5cc-45db-4cb6-b820-cb854a2d0a43](https://www.eversports.ch/org/activity/2231e5cc-45db-4cb6-b820-cb854a2d0a43) **In case of any questions\, contact us here:** [https://chat.whatsapp.com/CSCUj3b814E7OagroDneOO](https://chat.whatsapp.com/CSCUj3b814E7OagroDneOO)
END:VEVENT
END:VCALENDAR