BEGIN:VCALENDAR
VERSION:2.0
PRODID:-//Gather//weaved.ch//EN
BEGIN:VEVENT
UID:gather-13381@weaved.ch
DTSTAMP:20260420T104138Z
DTSTART:20260502T103000
DTEND:20260502T123000
SUMMARY:Summer Hatha Yoga and Brunch at Zurich Lake
LOCATION:Wollishofen ZSG\, Wollishofen ZSG\, Zürich
DESCRIPTION:Summer Hatha Yoga and Brunch at Zurich Lake\n\n☀️ Summer Hatha Yoga & Brunch in Zurich ☀️ Join us for a relaxed and refreshing Hatha Yoga & Summer Brunch on Saturday 2 May in Zurich – in the green area near Wollishofen. We’ll begin at 10:30 with 1h yoga practice\, open to all levels – including beginners. 🧘 Yoga spots are limited to 20 participants. Cost is 20 CHF - please pay via Twint +41 791977702 to save your spot. 🥐 After yoga\, we’ll stay together from for a relaxed picnic-style brunch. This part is open to everyone – no registration\, no fees. Feel free to join us at any time :) Just bring your own food\, drinks\, and good vibes. What to bring: Yoga mat Comfortable clothes Water Your own brunch items 🍓🥐🧃 To stay up to date join the WhatsApp group 🌿 [https://chat.whatsapp.com/JjcN8KKelJ7L5kNT40j6vT](https://chat.whatsapp.com/JjcN8KKelJ7L5kNT40j6vT)
END:VEVENT
END:VCALENDAR